BEGIN:VCALENDAR
VERSION:2.0
PRODID:-//stadtschuetzen.de - Gütersloher Schützengesellschaft von 1832 e.V. - ECPv6.15.13.1//NONSGML v1.0//EN
CALSCALE:GREGORIAN
METHOD:PUBLISH
X-WR-CALNAME:stadtschuetzen.de - Gütersloher Schützengesellschaft von 1832 e.V.
X-ORIGINAL-URL:https://www.stadtschuetzen.de
X-WR-CALDESC:Veranstaltungen für stadtschuetzen.de - Gütersloher Schützengesellschaft von 1832 e.V.
REFRESH-INTERVAL;VALUE=DURATION:PT1H
X-Robots-Tag:noindex
X-PUBLISHED-TTL:PT1H
BEGIN:VTIMEZONE
TZID:Europe/Berlin
BEGIN:DAYLIGHT
TZOFFSETFROM:+0100
TZOFFSETTO:+0200
TZNAME:CEST
DTSTART:20250330T010000
END:DAYLIGHT
BEGIN:STANDARD
TZOFFSETFROM:+0200
TZOFFSETTO:+0100
TZNAME:CET
DTSTART:20251026T010000
END:STANDARD
BEGIN:DAYLIGHT
TZOFFSETFROM:+0100
TZOFFSETTO:+0200
TZNAME:CEST
DTSTART:20260329T010000
END:DAYLIGHT
BEGIN:STANDARD
TZOFFSETFROM:+0200
TZOFFSETTO:+0100
TZNAME:CET
DTSTART:20261025T010000
END:STANDARD
BEGIN:DAYLIGHT
TZOFFSETFROM:+0100
TZOFFSETTO:+0200
TZNAME:CEST
DTSTART:20270328T010000
END:DAYLIGHT
BEGIN:STANDARD
TZOFFSETFROM:+0200
TZOFFSETTO:+0100
TZNAME:CET
DTSTART:20271031T010000
END:STANDARD
END:VTIMEZONE
BEGIN:VEVENT
DTSTART;TZID=Europe/Berlin:20260321T193000
DTEND;TZID=Europe/Berlin:20260321T193000
DTSTAMP:20260424T195356
CREATED:20260107T145359Z
LAST-MODIFIED:20260108T103552Z
UID:570-1774121400-1774121400@www.stadtschuetzen.de
SUMMARY:Gütersloher SKYLIGHTS
DESCRIPTION:Weitere Informationen zum Vorverkauf folgen.
URL:https://www.stadtschuetzen.de/event/guetersloher-skylights/
LOCATION:Gütersloher Theater\, Hans-Werner-Hentze Platz 1\, Gütersloh\, 33330\, Germany
ATTACH;FMTTYPE=image/png:https://www.stadtschuetzen.de/wp-content/uploads/2026/01/Screenshot-2026-01-08-113517.png
END:VEVENT
BEGIN:VEVENT
DTSTART;TZID=Europe/Berlin:20260221T200000
DTEND;TZID=Europe/Berlin:20260221T230000
DTSTAMP:20260424T195356
CREATED:20260107T145057Z
LAST-MODIFIED:20260108T110830Z
UID:566-1771704000-1771714800@www.stadtschuetzen.de
SUMMARY:Winterfest SV Pavenstädt
DESCRIPTION:
URL:https://www.stadtschuetzen.de/event/winterfest-sv-pavenstaedt/
LOCATION:Gütersloher Brauhaus\, Unter den Ulmen 9\, Gütersloh\, 33330\, Germany
ATTACH;FMTTYPE=image/png:https://www.stadtschuetzen.de/wp-content/uploads/2026/01/ChatGPT-Image-8.-Jan.-2026-12_07_21.png
END:VEVENT
BEGIN:VEVENT
DTSTART;TZID=Europe/Berlin:20260125T110000
DTEND;TZID=Europe/Berlin:20260125T110000
DTSTAMP:20260424T195356
CREATED:20260107T145108Z
LAST-MODIFIED:20260108T111427Z
UID:565-1769338800-1769338800@www.stadtschuetzen.de
SUMMARY:Jahresauftakt der GSG
DESCRIPTION:
URL:https://www.stadtschuetzen.de/event/jahresauftakt-der-gsg/
LOCATION:Vereinsheim im Heidewald\, Brunnenstraße 71\, Gütersloh\, 33332\, Germany
ATTACH;FMTTYPE=image/png:https://www.stadtschuetzen.de/wp-content/uploads/2026/01/ChatGPT-Image-8.-Jan.-2026-12_12_37.png
END:VEVENT
BEGIN:VEVENT
DTSTART;TZID=Europe/Berlin:20260117T200000
DTEND;TZID=Europe/Berlin:20260117T230000
DTSTAMP:20260424T195356
CREATED:20260107T144634Z
LAST-MODIFIED:20260108T111651Z
UID:560-1768680000-1768690800@www.stadtschuetzen.de
SUMMARY:Kattenstrother Nacht
DESCRIPTION:
URL:https://www.stadtschuetzen.de/event/winterfest-sv-kattenstroth/
LOCATION:Gütersloher Brauhaus\, Unter den Ulmen 9\, Gütersloh\, 33330\, Germany
ATTACH;FMTTYPE=image/png:https://www.stadtschuetzen.de/wp-content/uploads/2026/01/ChatGPT-Image-8.-Jan.-2026-12_09_26.png
END:VEVENT
END:VCALENDAR