BEGIN:VCALENDAR
VERSION:2.0
PRODID:-//stadtschuetzen.de - Gütersloher Schützengesellschaft von 1832 e.V. - ECPv6.15.13.1//NONSGML v1.0//EN
CALSCALE:GREGORIAN
METHOD:PUBLISH
X-WR-CALNAME:stadtschuetzen.de - Gütersloher Schützengesellschaft von 1832 e.V.
X-ORIGINAL-URL:https://www.stadtschuetzen.de
X-WR-CALDESC:Veranstaltungen für stadtschuetzen.de - Gütersloher Schützengesellschaft von 1832 e.V.
REFRESH-INTERVAL;VALUE=DURATION:PT1H
X-Robots-Tag:noindex
X-PUBLISHED-TTL:PT1H
BEGIN:VTIMEZONE
TZID:Europe/Berlin
BEGIN:DAYLIGHT
TZOFFSETFROM:+0100
TZOFFSETTO:+0200
TZNAME:CEST
DTSTART:20250330T010000
END:DAYLIGHT
BEGIN:STANDARD
TZOFFSETFROM:+0200
TZOFFSETTO:+0100
TZNAME:CET
DTSTART:20251026T010000
END:STANDARD
BEGIN:DAYLIGHT
TZOFFSETFROM:+0100
TZOFFSETTO:+0200
TZNAME:CEST
DTSTART:20260329T010000
END:DAYLIGHT
BEGIN:STANDARD
TZOFFSETFROM:+0200
TZOFFSETTO:+0100
TZNAME:CET
DTSTART:20261025T010000
END:STANDARD
BEGIN:DAYLIGHT
TZOFFSETFROM:+0100
TZOFFSETTO:+0200
TZNAME:CEST
DTSTART:20270328T010000
END:DAYLIGHT
BEGIN:STANDARD
TZOFFSETFROM:+0200
TZOFFSETTO:+0100
TZNAME:CET
DTSTART:20271031T010000
END:STANDARD
END:VTIMEZONE
BEGIN:VEVENT
DTSTART;TZID=Europe/Berlin:20260523T200000
DTEND;TZID=Europe/Berlin:20260523T200000
DTSTAMP:20260424T150200
CREATED:20260108T111222Z
LAST-MODIFIED:20260123T103114Z
UID:799-1779566400-1779566400@www.stadtschuetzen.de
SUMMARY:Schützenfest Niehorst
DESCRIPTION:
URL:https://www.stadtschuetzen.de/event/schuetzenfest-niehorst/
LOCATION:Schützenplatz Niehorst\, Brockhagener Str.\, Gütersloh\, Germany
ATTACH;FMTTYPE=image/png:https://www.stadtschuetzen.de/wp-content/uploads/2026/01/niehorst.png
END:VEVENT
BEGIN:VEVENT
DTSTART;TZID=Europe/Berlin:20260613T200000
DTEND;TZID=Europe/Berlin:20260613T200000
DTSTAMP:20260424T150200
CREATED:20260108T111351Z
LAST-MODIFIED:20260123T102000Z
UID:803-1781380800-1781380800@www.stadtschuetzen.de
SUMMARY:Schützenfest Kattenstroth
DESCRIPTION:
URL:https://www.stadtschuetzen.de/event/schuetzenfest-des-sv-kattenstroth/
LOCATION:Schützenplatz Kattenstroth\, Bertels Weg\, Gütersloh\, Germany
ATTACH;FMTTYPE=image/png:https://www.stadtschuetzen.de/wp-content/uploads/2026/01/kattenstroth.png
END:VEVENT
BEGIN:VEVENT
DTSTART;TZID=Europe/Berlin:20260627T183000
DTEND;TZID=Europe/Berlin:20260627T183000
DTSTAMP:20260424T150200
CREATED:20260112T150115Z
LAST-MODIFIED:20260123T101916Z
UID:4076-1782585000-1782585000@www.stadtschuetzen.de
SUMMARY:Schützenfest Nordhorn
DESCRIPTION:
URL:https://www.stadtschuetzen.de/event/schuetzenfest-nordhorn/
ATTACH;FMTTYPE=image/png:https://www.stadtschuetzen.de/wp-content/uploads/2026/01/nordhorn.png
END:VEVENT
BEGIN:VEVENT
DTSTART;TZID=Europe/Berlin:20260726T150000
DTEND;TZID=Europe/Berlin:20260726T170000
DTSTAMP:20260424T150200
CREATED:20260126T194419Z
LAST-MODIFIED:20260126T194829Z
UID:4437-1785078000-1785085200@www.stadtschuetzen.de
SUMMARY:100 Jahre BSV Friedrichsdorf
DESCRIPTION:
URL:https://www.stadtschuetzen.de/event/100-jahre-bsv-friedrichsdorf/
LOCATION:zum Taubenschlag\, Friedrichsdorf
ATTACH;FMTTYPE=image/png:https://www.stadtschuetzen.de/wp-content/uploads/2026/01/friedrichsdorf.png
END:VEVENT
BEGIN:VEVENT
DTSTART;VALUE=DATE:20260808
DTEND;VALUE=DATE:20260810
DTSTAMP:20260424T150200
CREATED:20260112T145949Z
LAST-MODIFIED:20260123T101937Z
UID:4068-1786147200-1786319999@www.stadtschuetzen.de
SUMMARY:Schützenfest Pavenstädt
DESCRIPTION:
URL:https://www.stadtschuetzen.de/event/schuetzenfest-pavenstaedt/
LOCATION:Schützenplatz Pavenstädt\, Pavenstädter Weg\, Gütersloh\, Germany
ATTACH;FMTTYPE=image/png:https://www.stadtschuetzen.de/wp-content/uploads/2026/01/pavenstaedt.png
END:VEVENT
END:VCALENDAR